BEGIN:VCALENDAR
VERSION:2.0
PRODID:-//FriendsVRR - ECPv6.9.0//NONSGML v1.0//EN
CALSCALE:GREGORIAN
METHOD:PUBLISH
X-WR-CALNAME:FriendsVRR
X-ORIGINAL-URL:https://friendsvrr.org
X-WR-CALDESC:Events for FriendsVRR
REFRESH-INTERVAL;VALUE=DURATION:PT1H
X-Robots-Tag:noindex
X-PUBLISHED-TTL:PT1H
BEGIN:VTIMEZONE
TZID:America/New_York
BEGIN:DAYLIGHT
TZOFFSETFROM:-0500
TZOFFSETTO:-0400
TZNAME:EDT
DTSTART:20160313T070000
END:DAYLIGHT
BEGIN:STANDARD
TZOFFSETFROM:-0400
TZOFFSETTO:-0500
TZNAME:EST
DTSTART:20161106T060000
END:STANDARD
END:VTIMEZONE
BEGIN:VEVENT
DTSTART;TZID=America/New_York:20160803T180000
DTEND;TZID=America/New_York:20160803T210000
DTSTAMP:20260424T073207
CREATED:20160624T232701Z
LAST-MODIFIED:20160624T232701Z
UID:692-1470247200-1470258000@friendsvrr.org
SUMMARY:Wednesday Night Shop Session
DESCRIPTION:Work on FVRR or VRR tasks that are on the list for the night.
URL:https://friendsvrr.org/event/wednesday-night-shop-session-27/
LOCATION:The Valley Railroad Company\, 1 Railroad Avenue\, Essex\, CT\, 06426\, United States
CATEGORIES:Volunteer Work Session
ORGANIZER;CN="Friends Board Member":MAILTO:info@friendsvrr.org
END:VEVENT
BEGIN:VEVENT
DTSTART;TZID=America/New_York:20160727T180000
DTEND;TZID=America/New_York:20160727T210000
DTSTAMP:20260424T073207
CREATED:20160624T232614Z
LAST-MODIFIED:20160721T172715Z
UID:691-1469642400-1469653200@friendsvrr.org
SUMMARY:CANCELLED - Wednesday Night Shop Session
DESCRIPTION:Shop night cancelled.
URL:https://friendsvrr.org/event/wednesday-night-shop-session-26/
LOCATION:The Valley Railroad Company\, 1 Railroad Avenue\, Essex\, CT\, 06426\, United States
CATEGORIES:Volunteer Work Session
ORGANIZER;CN="Friends Board Member":MAILTO:info@friendsvrr.org
END:VEVENT
BEGIN:VEVENT
DTSTART;TZID=America/New_York:20160723T080000
DTEND;TZID=America/New_York:20160723T160000
DTSTAMP:20260424T073207
CREATED:20160529T024555Z
LAST-MODIFIED:20160529T024555Z
UID:677-1469260800-1469289600@friendsvrr.org
SUMMARY:Track Gang Session
DESCRIPTION:There’s virtually no part of the Valley line\, from Saybrook to Middletown\, that hasn’t had the Friends assistance at some point. Join the friends in work to restore and maintain the rail line. Contact Brendan for more details (brendan.matthews@friendsvrr.org).
URL:https://friendsvrr.org/event/track-gang-session-18/
LOCATION:Marina\, 16 Snyder Rd\, Haddam\, 06438
CATEGORIES:Track Gang Session
ORGANIZER;CN="Brendan Matthews":MAILTO:brendan.matthews@friendsvrr.org
END:VEVENT
BEGIN:VEVENT
DTSTART;TZID=America/New_York:20160720T180000
DTEND;TZID=America/New_York:20160720T210000
DTSTAMP:20260424T073207
CREATED:20160624T232540Z
LAST-MODIFIED:20160624T232540Z
UID:690-1469037600-1469048400@friendsvrr.org
SUMMARY:Wednesday Night Shop Session
DESCRIPTION:Work on FVRR or VRR tasks that are on the list for the night.
URL:https://friendsvrr.org/event/wednesday-night-shop-session-25/
LOCATION:The Valley Railroad Company\, 1 Railroad Avenue\, Essex\, CT\, 06426\, United States
CATEGORIES:Volunteer Work Session
ORGANIZER;CN="Friends Board Member":MAILTO:info@friendsvrr.org
END:VEVENT
BEGIN:VEVENT
DTSTART;TZID=America/New_York:20160713T180000
DTEND;TZID=America/New_York:20160713T210000
DTSTAMP:20260424T073207
CREATED:20160624T232453Z
LAST-MODIFIED:20160624T232453Z
UID:689-1468432800-1468443600@friendsvrr.org
SUMMARY:Wednesday Night Shop Session
DESCRIPTION:Work on FVRR or VRR tasks that are on the list for the night.
URL:https://friendsvrr.org/event/wednesday-night-shop-session-24/
LOCATION:The Valley Railroad Company\, 1 Railroad Avenue\, Essex\, CT\, 06426\, United States
CATEGORIES:Volunteer Work Session
ORGANIZER;CN="Friends Board Member":MAILTO:info@friendsvrr.org
END:VEVENT
BEGIN:VEVENT
DTSTART;TZID=America/New_York:20160710T100000
DTEND;TZID=America/New_York:20160710T130000
DTSTAMP:20260424T073207
CREATED:20160710T133705Z
LAST-MODIFIED:20160710T133705Z
UID:696-1468144800-1468155600@friendsvrr.org
SUMMARY:Haddam Lions Rollin' on the River Car Show
DESCRIPTION:Friends VRR will be running the Hi-rail car. Contact a board member for details.
URL:https://friendsvrr.org/event/haddam-lions-rollin-on-the-river-car-show/
LOCATION:CT
CATEGORIES:Volunteer Work Session
END:VEVENT
BEGIN:VEVENT
DTSTART;TZID=America/New_York:20160709T080000
DTEND;TZID=America/New_York:20160709T160000
DTSTAMP:20260424T073208
CREATED:20160529T024516Z
LAST-MODIFIED:20160529T024516Z
UID:676-1468051200-1468080000@friendsvrr.org
SUMMARY:Track Gang Session
DESCRIPTION:There’s virtually no part of the Valley line\, from Saybrook to Middletown\, that hasn’t had the Friends assistance at some point. Join the friends in work to restore and maintain the rail line. Contact Brendan for more details (brendan.matthews@friendsvrr.org).
URL:https://friendsvrr.org/event/track-gang-session-17/
LOCATION:Goodspeed Rail Yard\, 22 Bridge Rd\, Haddam\, 06438\, United States
CATEGORIES:Track Gang Session
ORGANIZER;CN="Brendan Matthews":MAILTO:brendan.matthews@friendsvrr.org
END:VEVENT
BEGIN:VEVENT
DTSTART;TZID=America/New_York:20160706T180000
DTEND;TZID=America/New_York:20160706T210000
DTSTAMP:20260424T073208
CREATED:20160516T022334Z
LAST-MODIFIED:20160516T022507Z
UID:658-1467828000-1467838800@friendsvrr.org
SUMMARY:Wednesday Night Shop Session
DESCRIPTION:Work on FVRR or VRR tasks that are on the list for the night.
URL:https://friendsvrr.org/event/wednesday-night-shop-session-22/
LOCATION:The Valley Railroad Company\, 1 Railroad Avenue\, Essex\, CT\, 06426\, United States
CATEGORIES:Volunteer Work Session
ORGANIZER;CN="Friends Board Member":MAILTO:info@friendsvrr.org
END:VEVENT
BEGIN:VEVENT
DTSTART;TZID=America/New_York:20160703T080000
DTEND;TZID=America/New_York:20160703T170000
DTSTAMP:20260424T073208
CREATED:20160320T015839Z
LAST-MODIFIED:20160320T015839Z
UID:606-1467532800-1467565200@friendsvrr.org
SUMMARY:Caboose Host
DESCRIPTION:Certified Friend members can host weekend rides for paying customer. This event exposes members to the operations side of the VRR. The member is part of the train crew (not rules qualified)\, carries a VRR radio and represents the FVRR organization. \nContact a board member for questions and qualifications.
URL:https://friendsvrr.org/event/caboose-host-6/
LOCATION:The Valley Railroad Company\, 1 Railroad Avenue\, Essex\, CT\, 06426\, United States
CATEGORIES:Volunteer Caboose Host
ORGANIZER;CN="Friends Board Member":MAILTO:info@friendsvrr.org
END:VEVENT
BEGIN:VEVENT
DTSTART;TZID=America/New_York:20160702T080000
DTEND;TZID=America/New_York:20160702T170000
DTSTAMP:20260424T073208
CREATED:20160320T015747Z
LAST-MODIFIED:20160320T015747Z
UID:605-1467446400-1467478800@friendsvrr.org
SUMMARY:Caboose Host
DESCRIPTION:Certified Friend members can host weekend rides for paying customer. This event exposes members to the operations side of the VRR. The member is part of the train crew (not rules qualified)\, carries a VRR radio and represents the FVRR organization. \nContact a board member for questions and qualifications.
URL:https://friendsvrr.org/event/caboose-host-5/
LOCATION:The Valley Railroad Company\, 1 Railroad Avenue\, Essex\, CT\, 06426\, United States
CATEGORIES:Volunteer Caboose Host
ORGANIZER;CN="Friends Board Member":MAILTO:info@friendsvrr.org
END:VEVENT
BEGIN:VEVENT
DTSTART;TZID=America/New_York:20160629T180000
DTEND;TZID=America/New_York:20160629T210000
DTSTAMP:20260424T073208
CREATED:20160516T022412Z
LAST-MODIFIED:20160516T022412Z
UID:659-1467223200-1467234000@friendsvrr.org
SUMMARY:Wednesday Night Shop Session
DESCRIPTION:Work on FVRR or VRR tasks that are on the list for the night.
URL:https://friendsvrr.org/event/wednesday-night-shop-session-23/
LOCATION:The Valley Railroad Company\, 1 Railroad Avenue\, Essex\, CT\, 06426\, United States
CATEGORIES:Volunteer Work Session
ORGANIZER;CN="Friends Board Member":MAILTO:info@friendsvrr.org
END:VEVENT
BEGIN:VEVENT
DTSTART;TZID=America/New_York:20160629T163000
DTEND;TZID=America/New_York:20160629T203000
DTSTAMP:20260424T073208
CREATED:20160529T024353Z
LAST-MODIFIED:20160529T024353Z
UID:675-1467217800-1467232200@friendsvrr.org
SUMMARY:Track Gang Session
DESCRIPTION:There’s virtually no part of the Valley line\, from Saybrook to Middletown\, that hasn’t had the Friends assistance at some point. Join the friends in work to restore and maintain the rail line. Contact Brendan for more details (brendan.matthews@friendsvrr.org).
URL:https://friendsvrr.org/event/track-gang-session-16/
LOCATION:Marina\, 16 Snyder Rd\, Haddam\, 06438
CATEGORIES:Track Gang Session
ORGANIZER;CN="Brendan Matthews":MAILTO:brendan.matthews@friendsvrr.org
END:VEVENT
BEGIN:VEVENT
DTSTART;TZID=America/New_York:20160628T100000
DTEND;TZID=America/New_York:20160628T140000
DTSTAMP:20260424T073208
CREATED:20160628T013714Z
LAST-MODIFIED:20160628T013730Z
UID:694-1467108000-1467122400@friendsvrr.org
SUMMARY:Special Track Gang
DESCRIPTION:Join Brendan and the VRR track crew to replace a broken rail past the Marina.   Work starts at 10am.
URL:https://friendsvrr.org/event/special-track-gang/
LOCATION:Marina\, 16 Snyder Rd\, Haddam\, 06438
CATEGORIES:Track Gang Session
ORGANIZER;CN="Brendan Matthews":MAILTO:brendan.matthews@friendsvrr.org
END:VEVENT
BEGIN:VEVENT
DTSTART;TZID=America/New_York:20160625T080000
DTEND;TZID=America/New_York:20160625T160000
DTSTAMP:20260424T073208
CREATED:20160529T012245Z
LAST-MODIFIED:20160529T024029Z
UID:669-1466841600-1466870400@friendsvrr.org
SUMMARY:Track Gang Session
DESCRIPTION:There’s virtually no part of the Valley line\, from Saybrook to Middletown\, that hasn’t had the Friends assistance at some point. Join the friends in work to restore and maintain the rail line. Contact Brendan for more details (brendan.matthews@friendsvrr.org).
URL:https://friendsvrr.org/event/track-gang-session-12/
LOCATION:Goodspeed Rail Yard\, 22 Bridge Rd\, Haddam\, 06438\, United States
CATEGORIES:Track Gang Session
ORGANIZER;CN="Brendan Matthews":MAILTO:brendan.matthews@friendsvrr.org
END:VEVENT
BEGIN:VEVENT
DTSTART;TZID=America/New_York:20160622T180000
DTEND;TZID=America/New_York:20160622T210000
DTSTAMP:20260424T073208
CREATED:20160516T022255Z
LAST-MODIFIED:20160516T022255Z
UID:657-1466618400-1466629200@friendsvrr.org
SUMMARY:Wednesday Night Shop Session
DESCRIPTION:Work on FVRR or VRR tasks that are on the list for the night.
URL:https://friendsvrr.org/event/wednesday-night-shop-session-21/
LOCATION:The Valley Railroad Company\, 1 Railroad Avenue\, Essex\, CT\, 06426\, United States
CATEGORIES:Volunteer Work Session
ORGANIZER;CN="Friends Board Member":MAILTO:info@friendsvrr.org
END:VEVENT
BEGIN:VEVENT
DTSTART;TZID=America/New_York:20160622T163000
DTEND;TZID=America/New_York:20160622T203000
DTSTAMP:20260424T073208
CREATED:20160529T024201Z
LAST-MODIFIED:20160529T024201Z
UID:674-1466613000-1466627400@friendsvrr.org
SUMMARY:Track Gang Session
DESCRIPTION:There’s virtually no part of the Valley line\, from Saybrook to Middletown\, that hasn’t had the Friends assistance at some point. Join the friends in work to restore and maintain the rail line. Contact Brendan for more details (brendan.matthews@friendsvrr.org).
URL:https://friendsvrr.org/event/track-gang-session-15/
LOCATION:Marina\, 16 Snyder Rd\, Haddam\, 06438
CATEGORIES:Track Gang Session
ORGANIZER;CN="Brendan Matthews":MAILTO:brendan.matthews@friendsvrr.org
END:VEVENT
BEGIN:VEVENT
DTSTART;TZID=America/New_York:20160615T180000
DTEND;TZID=America/New_York:20160615T210000
DTSTAMP:20260424T073208
CREATED:20160516T022201Z
LAST-MODIFIED:20160516T022201Z
UID:656-1466013600-1466024400@friendsvrr.org
SUMMARY:Wednesday Night Shop Session
DESCRIPTION:Work on FVRR or VRR tasks that are on the list for the night.
URL:https://friendsvrr.org/event/wednesday-night-shop-session-20/
LOCATION:The Valley Railroad Company\, 1 Railroad Avenue\, Essex\, CT\, 06426\, United States
CATEGORIES:Volunteer Work Session
ORGANIZER;CN="Friends Board Member":MAILTO:info@friendsvrr.org
END:VEVENT
BEGIN:VEVENT
DTSTART;TZID=America/New_York:20160615T163000
DTEND;TZID=America/New_York:20160615T203000
DTSTAMP:20260424T073208
CREATED:20160529T024116Z
LAST-MODIFIED:20160529T024116Z
UID:673-1466008200-1466022600@friendsvrr.org
SUMMARY:Track Gang Session
DESCRIPTION:There’s virtually no part of the Valley line\, from Saybrook to Middletown\, that hasn’t had the Friends assistance at some point. Join the friends in work to restore and maintain the rail line. Contact Brendan for more details (brendan.matthews@friendsvrr.org).
URL:https://friendsvrr.org/event/track-gang-session-14/
LOCATION:Marina\, 16 Snyder Rd\, Haddam\, 06438
CATEGORIES:Track Gang Session
ORGANIZER;CN="Brendan Matthews":MAILTO:brendan.matthews@friendsvrr.org
END:VEVENT
BEGIN:VEVENT
DTSTART;TZID=America/New_York:20160611T080000
DTEND;TZID=America/New_York:20160611T160000
DTSTAMP:20260424T073208
CREATED:20160529T012019Z
LAST-MODIFIED:20160529T012019Z
UID:668-1465632000-1465660800@friendsvrr.org
SUMMARY:Track Gang Session
DESCRIPTION:There’s virtually no part of the Valley line\, from Saybrook to Middletown\, that hasn’t had the Friends assistance at some point. Join the friends in work to restore and maintain the rail line. Contact Brendan for more details (brendan.matthews@friendsvrr.org).
URL:https://friendsvrr.org/event/track-gang-session-11/
LOCATION:Goodspeed Rail Yard\, 22 Bridge Rd\, Haddam\, 06438\, United States
CATEGORIES:Track Gang Session
ORGANIZER;CN="Brendan Matthews":MAILTO:brendan.matthews@friendsvrr.org
END:VEVENT
BEGIN:VEVENT
DTSTART;TZID=America/New_York:20160608T180000
DTEND;TZID=America/New_York:20160608T210000
DTSTAMP:20260424T073208
CREATED:20160516T022114Z
LAST-MODIFIED:20160516T022114Z
UID:655-1465408800-1465419600@friendsvrr.org
SUMMARY:Wednesday Night Shop Session
DESCRIPTION:Work on FVRR or VRR tasks that are on the list for the night.
URL:https://friendsvrr.org/event/wednesday-night-shop-session-19/
LOCATION:The Valley Railroad Company\, 1 Railroad Avenue\, Essex\, CT\, 06426\, United States
CATEGORIES:Volunteer Work Session
ORGANIZER;CN="Friends Board Member":MAILTO:info@friendsvrr.org
END:VEVENT
BEGIN:VEVENT
DTSTART;TZID=America/New_York:20160608T163000
DTEND;TZID=America/New_York:20160608T203000
DTSTAMP:20260424T073208
CREATED:20160529T012822Z
LAST-MODIFIED:20160529T012822Z
UID:671-1465403400-1465417800@friendsvrr.org
SUMMARY:Track Gang Session
DESCRIPTION:There’s virtually no part of the Valley line\, from Saybrook to Middletown\, that hasn’t had the Friends assistance at some point. Join the friends in work to restore and maintain the rail line. Contact Brendan for more details (brendan.matthews@friendsvrr.org)
URL:https://friendsvrr.org/event/track-gang-session-13/
LOCATION:Marina\, 16 Snyder Rd\, Haddam\, 06438
CATEGORIES:Track Gang Session
ORGANIZER;CN="Brendan Matthews":MAILTO:brendan.matthews@friendsvrr.org
END:VEVENT
BEGIN:VEVENT
DTSTART;TZID=America/New_York:20160605T080000
DTEND;TZID=America/New_York:20160605T170000
DTSTAMP:20260424T073208
CREATED:20160320T015551Z
LAST-MODIFIED:20160323T125429Z
UID:604-1465113600-1465146000@friendsvrr.org
SUMMARY:Caboose Host
DESCRIPTION:Certified Friend members can host weekend rides for paying customer. This event exposes members to the operations side of the VRR. The member is part of the train crew (not rules qualified)\, carries a VRR radio and represents the FVRR organization. \nContact a board member for questions an qualifications.
URL:https://friendsvrr.org/event/caboose-host-4/
LOCATION:The Valley Railroad Company\, 1 Railroad Avenue\, Essex\, CT\, 06426\, United States
CATEGORIES:Volunteer Caboose Host
ORGANIZER;CN="Friends Board Member":MAILTO:info@friendsvrr.org
END:VEVENT
BEGIN:VEVENT
DTSTART;TZID=America/New_York:20160604T080000
DTEND;TZID=America/New_York:20160604T170000
DTSTAMP:20260424T073208
CREATED:20160320T015503Z
LAST-MODIFIED:20160320T015503Z
UID:603-1465027200-1465059600@friendsvrr.org
SUMMARY:Caboose Host
DESCRIPTION:Certified Friend members can host weekend rides for paying customer. This event exposes members to the operations side of the VRR. The member is part of the train crew (not rules qualified)\, carries a VRR radio and represents the FVRR organization. \nContact a board member for questions an qualifications.
URL:https://friendsvrr.org/event/caboose-host-3/
LOCATION:The Valley Railroad Company\, 1 Railroad Avenue\, Essex\, CT\, 06426\, United States
CATEGORIES:Volunteer Caboose Host
ORGANIZER;CN="Friends Board Member":MAILTO:info@friendsvrr.org
END:VEVENT
BEGIN:VEVENT
DTSTART;TZID=America/New_York:20160601T180000
DTEND;TZID=America/New_York:20160601T210000
DTSTAMP:20260424T073208
CREATED:20160516T022034Z
LAST-MODIFIED:20160516T022034Z
UID:653-1464804000-1464814800@friendsvrr.org
SUMMARY:Wednesday Night Shop Session
DESCRIPTION:Work on FVRR or VRR tasks that are on the list for the night.
URL:https://friendsvrr.org/event/wednesday-night-shop-session-18/
LOCATION:The Valley Railroad Company\, 1 Railroad Avenue\, Essex\, CT\, 06426\, United States
CATEGORIES:Volunteer Work Session
ORGANIZER;CN="Friends Board Member":MAILTO:info@friendsvrr.org
END:VEVENT
BEGIN:VEVENT
DTSTART;TZID=America/New_York:20160601T180000
DTEND;TZID=America/New_York:20160601T190000
DTSTAMP:20260424T073208
CREATED:20160517T202615Z
LAST-MODIFIED:20160517T202615Z
UID:663-1464804000-1464807600@friendsvrr.org
SUMMARY:Board Member Huddle
DESCRIPTION:Board Member huddle to check on the status of projects.
URL:https://friendsvrr.org/event/board-member-huddle/
LOCATION:The Valley Railroad Company\, 1 Railroad Avenue\, Essex\, CT\, 06426\, United States
CATEGORIES:FVRR Board Meeting
ORGANIZER;CN="Tim O'Leary":MAILTO:toleary@friendsvrr.org
END:VEVENT
BEGIN:VEVENT
DTSTART;TZID=America/New_York:20160528T080000
DTEND;TZID=America/New_York:20160528T170000
DTSTAMP:20260424T073208
CREATED:20160424T233433Z
LAST-MODIFIED:20160424T233433Z
UID:642-1464422400-1464454800@friendsvrr.org
SUMMARY:Track Gang Session
DESCRIPTION:There’s virtually no part of the Valley line\, from Saybrook to Middletown\, that hasn’t had the Friends assistance at some point. Join the friends in work to restore and maintain the rail line.  Contact Brendan for more details (brendan.matthews@friendsvrr.org).
URL:https://friendsvrr.org/event/track-gang-session-5/
LOCATION:Goodspeed Rail Yard\, 22 Bridge Rd\, Haddam\, 06438\, United States
CATEGORIES:Track Gang Session
ORGANIZER;CN="Brendan Matthews":MAILTO:brendan.matthews@friendsvrr.org
END:VEVENT
BEGIN:VEVENT
DTSTART;TZID=America/New_York:20160525T180000
DTEND;TZID=America/New_York:20160525T210000
DTSTAMP:20260424T073208
CREATED:20160412T005158Z
LAST-MODIFIED:20160412T005158Z
UID:637-1464199200-1464210000@friendsvrr.org
SUMMARY:Wednesday Night Shop Session
DESCRIPTION:Work on FVRR or VRR tasks that are on the list for the night.
URL:https://friendsvrr.org/event/wednesday-night-shop-session-7/
LOCATION:The Valley Railroad Company\, 1 Railroad Avenue\, Essex\, CT\, 06426\, United States
CATEGORIES:Volunteer Work Session
ORGANIZER;CN="Friends Board Member":MAILTO:info@friendsvrr.org
END:VEVENT
BEGIN:VEVENT
DTSTART;TZID=America/New_York:20160525T160000
DTEND;TZID=America/New_York:20160525T190000
DTSTAMP:20260424T073208
CREATED:20160516T022741Z
LAST-MODIFIED:20160516T022741Z
UID:662-1464192000-1464202800@friendsvrr.org
SUMMARY:Track Gang Session
DESCRIPTION:There’s virtually no part of the Valley line\, from Saybrook to Middletown\, that hasn’t had the Friends assistance at some point.  Brendan will be leading the charge.
URL:https://friendsvrr.org/event/track-gang-session-10/
LOCATION:Marina\, 16 Snyder Rd\, Haddam\, 06438
CATEGORIES:Track Gang Session
ORGANIZER;CN="Brendan Matthews":MAILTO:brendan.matthews@friendsvrr.org
END:VEVENT
BEGIN:VEVENT
DTSTART;TZID=America/New_York:20160518T180000
DTEND;TZID=America/New_York:20160518T210000
DTSTAMP:20260424T073208
CREATED:20160412T005355Z
LAST-MODIFIED:20160412T005355Z
UID:638-1463594400-1463605200@friendsvrr.org
SUMMARY:Wednesday Night Shop Session
DESCRIPTION:Work on FVRR or VRR tasks that are on the list for the night.
URL:https://friendsvrr.org/event/wednesday-night-shop-session-8/
LOCATION:The Valley Railroad Company\, 1 Railroad Avenue\, Essex\, CT\, 06426\, United States
CATEGORIES:Volunteer Work Session
ORGANIZER;CN="Friends Board Member":MAILTO:info@friendsvrr.org
END:VEVENT
BEGIN:VEVENT
DTSTART;TZID=America/New_York:20160518T160000
DTEND;TZID=America/New_York:20160518T190000
DTSTAMP:20260424T073208
CREATED:20160516T022704Z
LAST-MODIFIED:20160516T022704Z
UID:661-1463587200-1463598000@friendsvrr.org
SUMMARY:Track Gang Session
DESCRIPTION:There’s virtually no part of the Valley line\, from Saybrook to Middletown\, that hasn’t had the Friends assistance at some point.  Brendan will be leading the charge.
URL:https://friendsvrr.org/event/track-gang-session-9/
LOCATION:Marina\, 16 Snyder Rd\, Haddam\, 06438
CATEGORIES:Track Gang Session
ORGANIZER;CN="Brendan Matthews":MAILTO:brendan.matthews@friendsvrr.org
END:VEVENT
END:VCALENDAR