BEGIN:VCALENDAR
VERSION:2.0
PRODID:-//FriendsVRR - ECPv6.9.0//NONSGML v1.0//EN
CALSCALE:GREGORIAN
METHOD:PUBLISH
X-WR-CALNAME:FriendsVRR
X-ORIGINAL-URL:https://friendsvrr.org
X-WR-CALDESC:Events for FriendsVRR
REFRESH-INTERVAL;VALUE=DURATION:PT1H
X-Robots-Tag:noindex
X-PUBLISHED-TTL:PT1H
BEGIN:VTIMEZONE
TZID:America/New_York
BEGIN:DAYLIGHT
TZOFFSETFROM:-0500
TZOFFSETTO:-0400
TZNAME:EDT
DTSTART:20180311T070000
END:DAYLIGHT
BEGIN:STANDARD
TZOFFSETFROM:-0400
TZOFFSETTO:-0500
TZNAME:EST
DTSTART:20181104T060000
END:STANDARD
END:VTIMEZONE
BEGIN:VEVENT
DTSTART;TZID=America/New_York:20180606T100000
DTEND;TZID=America/New_York:20180606T130000
DTSTAMP:20260425T130434
CREATED:20181128T011957Z
LAST-MODIFIED:20181128T011957Z
UID:1320-1528279200-1528290000@friendsvrr.org
SUMMARY:HiRail Rides
DESCRIPTION:
URL:https://friendsvrr.org/event/hirail-rides-13/
CATEGORIES:Public Appreciation Event
END:VEVENT
BEGIN:VEVENT
DTSTART;TZID=America/New_York:20180602T100000
DTEND;TZID=America/New_York:20180602T130000
DTSTAMP:20260425T130434
CREATED:20180519T184903Z
LAST-MODIFIED:20180519T184903Z
UID:1187-1527933600-1527944400@friendsvrr.org
SUMMARY:HiRail Rides
DESCRIPTION:
URL:https://friendsvrr.org/event/hirail-rides-8/
CATEGORIES:Public Appreciation Event
END:VEVENT
END:VCALENDAR